BEGIN:VCALENDAR
VERSION:2.0
PRODID:-//Grapes Hill Community Garden - ECPv6.15.20//NONSGML v1.0//EN
CALSCALE:GREGORIAN
METHOD:PUBLISH
X-WR-CALNAME:Grapes Hill Community Garden
X-ORIGINAL-URL:https://grapeshillcommunitygarden.org/pages
X-WR-CALDESC:Events for Grapes Hill Community Garden
REFRESH-INTERVAL;VALUE=DURATION:PT1H
X-Robots-Tag:noindex
X-PUBLISHED-TTL:PT1H
BEGIN:VTIMEZONE
TZID:Europe/London
BEGIN:DAYLIGHT
TZOFFSETFROM:+0000
TZOFFSETTO:+0100
TZNAME:BST
DTSTART:20240331T010000
END:DAYLIGHT
BEGIN:STANDARD
TZOFFSETFROM:+0100
TZOFFSETTO:+0000
TZNAME:GMT
DTSTART:20241027T010000
END:STANDARD
BEGIN:DAYLIGHT
TZOFFSETFROM:+0000
TZOFFSETTO:+0100
TZNAME:BST
DTSTART:20250330T010000
END:DAYLIGHT
BEGIN:STANDARD
TZOFFSETFROM:+0100
TZOFFSETTO:+0000
TZNAME:GMT
DTSTART:20251026T010000
END:STANDARD
BEGIN:DAYLIGHT
TZOFFSETFROM:+0000
TZOFFSETTO:+0100
TZNAME:BST
DTSTART:20260329T010000
END:DAYLIGHT
BEGIN:STANDARD
TZOFFSETFROM:+0100
TZOFFSETTO:+0000
TZNAME:GMT
DTSTART:20261025T010000
END:STANDARD
BEGIN:DAYLIGHT
TZOFFSETFROM:+0000
TZOFFSETTO:+0100
TZNAME:BST
DTSTART:20270328T010000
END:DAYLIGHT
BEGIN:STANDARD
TZOFFSETFROM:+0100
TZOFFSETTO:+0000
TZNAME:GMT
DTSTART:20271031T010000
END:STANDARD
END:VTIMEZONE
BEGIN:VEVENT
DTSTART;TZID=Europe/London:20260325T140000
DTEND;TZID=Europe/London:20260325T160000
DTSTAMP:20260421T094600
CREATED:20251211T172033Z
LAST-MODIFIED:20251211T172033Z
UID:1855-1774447200-1774454400@grapeshillcommunitygarden.org
SUMMARY:Wednesday Weekly Gardening Session
DESCRIPTION:Enjoy the fresh air\, make connections and get involved with your community garden. Gloves\, tools and guidance provided by our friendly gardeners\, Jo and Charity\, who will be on hand to guide you with tasks. All ages and abilities are welcome and no need to book. For more details email contact@grapeshillcommunitygarden.org or check our Facebook events.
URL:https://grapeshillcommunitygarden.org/pages/event/wednesday-weekly-gardening-session-2/
LOCATION:Grapes Hill Community Garden\, Grapes Hill\, Norwich\, NR2 4HH\, United Kingdom
CATEGORIES:Volunteer Gardening Session
END:VEVENT
BEGIN:VEVENT
DTSTART;TZID=Europe/London:20260322T140000
DTEND;TZID=Europe/London:20260322T150000
DTSTAMP:20260421T094600
CREATED:20260131T152112Z
LAST-MODIFIED:20260131T152112Z
UID:1897-1774188000-1774191600@grapeshillcommunitygarden.org
SUMMARY:Family Garden Club
DESCRIPTION:This is our first family garden club of 2026. Come along with your little ones for our free family garden club. Each session there will be a simple craft activity and some garden tasks. All children to be accompanied by a responsible adult. \nBooking essential email contact@grapeshillcommunitygarden.org \n 
URL:https://grapeshillcommunitygarden.org/pages/event/family-garden-club/
LOCATION:Grapes Hill Community Garden\, Grapes Hill\, Norwich\, NR2 4HH\, United Kingdom
CATEGORIES:Family Garden Club
END:VEVENT
BEGIN:VEVENT
DTSTART;TZID=Europe/London:20260320T110000
DTEND;TZID=Europe/London:20260320T140000
DTSTAMP:20260421T094600
CREATED:20260115T173959Z
LAST-MODIFIED:20260115T173959Z
UID:1894-1774004400-1774015200@grapeshillcommunitygarden.org
SUMMARY:Connecting to Spring Equinox Workshop
DESCRIPTION:Join us for a fun and interactive workshop marking the Spring Equinox and exploring seasonal connections!\n\n\n\n\nConnecting to Spring Equinox-  A Seasonal Connections Workshop \nJoin us for a fun and interactive workshop at Grapes Hill Community Garden to celebrate the arrival of spring! Learn about the significance of the Spring Equinox and how it connects us to nature. Discover the ancient traditions and modern practices associated with this special time of year. This event will include hands-on activities\, discussions\, and a chance to connect with like-minded individuals. Don’t miss out on this opportunity to welcome the new season in a meaningful way! \nWe will come together to celebrate the awakening\, renewal and the balance of light and dark. Age 13+. Free. \nActivities include – A guided meditation round the fire\, a nature poetry writing session and we will end with a bring and share Spring lunch. \nWe are grateful to funding from the Love Norfolk Fund\, managed by the Norfolk Community Foundation. The programme aims to help you live more seasonally and strengthen your connections with nature and your local community.
URL:https://grapeshillcommunitygarden.org/pages/event/connecting-to-spring-equinox-workshop/
LOCATION:Grapes Hill Community Garden\, Grapes Hill\, Norwich\, NR2 4HH\, United Kingdom
CATEGORIES:Workshop
END:VEVENT
BEGIN:VEVENT
DTSTART;TZID=Europe/London:20260318T150000
DTEND;TZID=Europe/London:20260318T170000
DTSTAMP:20260421T094600
CREATED:20251211T163912Z
LAST-MODIFIED:20251211T164331Z
UID:1828-1773846000-1773853200@grapeshillcommunitygarden.org
SUMMARY:Board Games
DESCRIPTION:If dry and warm we’ll be in the garden otherwise we will be upstairs in the Cloud Café\, Dereham Road. Games are provided and you are welcome to bring your own. Free and no need to book. Please pay for your own drinks/snacks.
URL:https://grapeshillcommunitygarden.org/pages/event/board-games-3/
CATEGORIES:Board Games Session
END:VEVENT
BEGIN:VEVENT
DTSTART;TZID=Europe/London:20260318T140000
DTEND;TZID=Europe/London:20260318T160000
DTSTAMP:20260421T094600
CREATED:20251211T171136Z
LAST-MODIFIED:20260115T171915Z
UID:1846-1773842400-1773849600@grapeshillcommunitygarden.org
SUMMARY:Wednesday Volunteer Gardening Session
DESCRIPTION:Enjoy the fresh air\, make connections and get involved with your community garden. Gloves\, tools and guidance provided by our friendly gardeners\, Jo and Charity\, who will be on hand to guide you with tasks. All ages and abilities are welcome and no need to book. For more details email contact@grapeshillcommunitygarden.org
URL:https://grapeshillcommunitygarden.org/pages/event/wednesday-volunteer-gardening-session-2/
LOCATION:Grapes Hill Community Garden\, Grapes Hill\, Norwich\, NR2 4HH\, United Kingdom
CATEGORIES:Volunteer Gardening Session
END:VEVENT
BEGIN:VEVENT
DTSTART;TZID=Europe/London:20260312T183000
DTEND;TZID=Europe/London:20260312T200000
DTSTAMP:20260421T094600
CREATED:20260219T131306Z
LAST-MODIFIED:20260219T131306Z
UID:1908-1773340200-1773345600@grapeshillcommunitygarden.org
SUMMARY:Annual General Meeting
DESCRIPTION:AGM at St John the Baptist Cathedral. All welcome. Come for a chat and a cuppa\, find out how to get involved. Please email to let us know you are coming.
URL:https://grapeshillcommunitygarden.org/pages/event/annual-general-meeting/
LOCATION:The Narthex\, St John The Baptist Cathedral\, Unthank Road\, NR2 2PA\, United Kingdom
END:VEVENT
BEGIN:VEVENT
DTSTART;TZID=Europe/London:20260311T140000
DTEND;TZID=Europe/London:20260311T160000
DTSTAMP:20260421T094600
CREATED:20251211T171801Z
LAST-MODIFIED:20251211T171801Z
UID:1851-1773237600-1773244800@grapeshillcommunitygarden.org
SUMMARY:Wednesday Volunteer Gardening Session
DESCRIPTION:Enjoy the fresh air\, make connections and get involved with your community garden. Gloves\, tools and guidance provided by our friendly gardeners\, Jo and Charity\, who will be on hand to guide you with tasks. All ages and abilities are welcome and no need to book. For more details email contact@grapeshillcommunitygarden.org or check our Facebook events.
URL:https://grapeshillcommunitygarden.org/pages/event/wednesday-volunteer-gardening-session-4/
LOCATION:Grapes Hill Community Garden\, Grapes Hill\, Norwich\, NR2 4HH\, United Kingdom
CATEGORIES:Volunteer Gardening Session
END:VEVENT
BEGIN:VEVENT
DTSTART;TZID=Europe/London:20260308T130000
DTEND;TZID=Europe/London:20260308T160000
DTSTAMP:20260421T094600
CREATED:20251211T172253Z
LAST-MODIFIED:20251211T172253Z
UID:1858-1772974800-1772985600@grapeshillcommunitygarden.org
SUMMARY:Sunday Volunteer Gardening Session
DESCRIPTION:Enjoy the fresh air\, make connections and get involved with your community garden. Gloves\, tools and guidance provided by our friendly gardeners\, Jo and Charity\, who will be on hand to guide you with tasks. All ages and abilities are welcome and no need to book. For more details email contact@grapeshillcommunitygarden.org or check our Facebook events.
URL:https://grapeshillcommunitygarden.org/pages/event/sunday-volunteer-gardening-session-2/
LOCATION:Grapes Hill Community Garden\, Grapes Hill\, Norwich\, NR2 4HH\, United Kingdom
CATEGORIES:Volunteer Gardening Session
END:VEVENT
BEGIN:VEVENT
DTSTART;TZID=Europe/London:20260305T130000
DTEND;TZID=Europe/London:20260305T140000
DTSTAMP:20260421T094600
CREATED:20260219T130649Z
LAST-MODIFIED:20260219T130649Z
UID:1906-1772715600-1772719200@grapeshillcommunitygarden.org
SUMMARY:Bloomin' Improv
DESCRIPTION:NEW Improvisation games in the lovely surroundings of the Community Garden. It’s a great chance to take a break\, enjoy the outdoors\, and enjoy a bit of nature-hearted fun. No experience needed. Free. Drop in.
URL:https://grapeshillcommunitygarden.org/pages/event/bloomin-improv/
LOCATION:Grapes Hill Community Garden\, Grapes Hill\, Norwich\, NR2 4HH\, United Kingdom
CATEGORIES:Workshop
END:VEVENT
BEGIN:VEVENT
DTSTART;TZID=Europe/London:20260304T140000
DTEND;TZID=Europe/London:20260304T160000
DTSTAMP:20260421T094600
CREATED:20251211T171618Z
LAST-MODIFIED:20251211T171618Z
UID:1849-1772632800-1772640000@grapeshillcommunitygarden.org
SUMMARY:Wednesday Volunteer Gardening Session
DESCRIPTION:Please note the new Spring time of 2pm start. Sessions will now be weekly\, starting in March and throughout the year until Winter. Enjoy the fresh air\, make connections and get involved with your community garden. Gloves\, tools and guidance provided by our friendly gardeners\, Jo and Charity\, who will be on hand to guide you with tasks. All ages and abilities are welcome and no need to book. For more details email contact@grapeshillcommunitygarden.org
URL:https://grapeshillcommunitygarden.org/pages/event/wednesday-volunteer-gardening-session-3/
LOCATION:Grapes Hill Community Garden\, Grapes Hill\, Norwich\, NR2 4HH\, United Kingdom
CATEGORIES:Volunteer Gardening Session
END:VEVENT
BEGIN:VEVENT
DTSTART;TZID=Europe/London:20260218T150000
DTEND;TZID=Europe/London:20260218T170000
DTSTAMP:20260421T094600
CREATED:20251211T164043Z
LAST-MODIFIED:20251211T164043Z
UID:1830-1771426800-1771434000@grapeshillcommunitygarden.org
SUMMARY:Board Games
DESCRIPTION:We’ll be upstairs in the Cloud Café\, Dereham Road. Games are provided and you are welcome to bring your own. Free and no need to book. Please pay for your own drinks/snacks.
URL:https://grapeshillcommunitygarden.org/pages/event/board-games-4/
LOCATION:Cloud Cafe Bar\, Dereham Road\, Norwich\, NR2 4HH\, United Kingdom
CATEGORIES:Board Games Session
END:VEVENT
BEGIN:VEVENT
DTSTART;TZID=Europe/London:20260218T130000
DTEND;TZID=Europe/London:20260218T150000
DTSTAMP:20260421T094600
CREATED:20251211T170409Z
LAST-MODIFIED:20251211T170409Z
UID:1843-1771419600-1771426800@grapeshillcommunitygarden.org
SUMMARY:Wednesday Volunteer Gardening Session
DESCRIPTION:Enjoy the fresh air\, make connections and get involved with your community garden. Gloves\, tools and guidance provided by our friendly gardeners\, Jo and Charity\, who will be on hand to guide you with tasks. All ages and abilities are welcome and no need to book. For more details email contact@grapeshillcommunitygarden.org
URL:https://grapeshillcommunitygarden.org/pages/event/wednesday-volunteer-gardening-session/
LOCATION:Grapes Hill Community Garden\, Grapes Hill\, Norwich\, NR2 4HH\, United Kingdom
CATEGORIES:Volunteer Gardening Session
END:VEVENT
BEGIN:VEVENT
DTSTART;TZID=Europe/London:20260216T173000
DTEND;TZID=Europe/London:20260216T190000
DTSTAMP:20260421T094600
CREATED:20251218T100255Z
LAST-MODIFIED:20251218T100255Z
UID:1874-1771263000-1771268400@grapeshillcommunitygarden.org
SUMMARY:Acoustic Jam Session
DESCRIPTION:Our acoustic jam sessions are held on first and third Monday each month. Bring a song or two you’d like to play or sing. Meet Temple Bar\, Unthank Road. In the Spring we will move back to the garden.
URL:https://grapeshillcommunitygarden.org/pages/event/acoustic-jam-session-4/
LOCATION:Temple Bar\, 2 Unthank Road\, Norwich\, Norfolk\, NR2 2RA\, United Kingdom
CATEGORIES:Acoustic Jam Session
END:VEVENT
BEGIN:VEVENT
DTSTART;VALUE=DATE:20260215
DTEND;VALUE=DATE:20260216
DTSTAMP:20260421T094600
CREATED:20260115T171739Z
LAST-MODIFIED:20260115T171739Z
UID:1888-1771113600-1771199999@grapeshillcommunitygarden.org
SUMMARY:Stall at the Science Festival at The Forum Norwich
DESCRIPTION:We will have a stall with info. \, a quiz\, seeds and plant pot making. Choose your own seeds to sow in your own mini pot to take home. Come along on the Sunday at the Forum. Find out what we have got coming up at the garden and how you and your family can get involved.
URL:https://grapeshillcommunitygarden.org/pages/event/stall-at-the-science-festival-at-the-forum-norwich/
LOCATION:The Forum\, Norwich\, Norfolk\, NR2 1TF\, United Kingdom
CATEGORIES:External Event
END:VEVENT
BEGIN:VEVENT
DTSTART;TZID=Europe/London:20260208T130000
DTEND;TZID=Europe/London:20260208T150000
DTSTAMP:20260421T094600
CREATED:20251211T170235Z
LAST-MODIFIED:20251211T170235Z
UID:1841-1770555600-1770562800@grapeshillcommunitygarden.org
SUMMARY:Sunday Volunteer Gardening Session
DESCRIPTION:Enjoy the fresh air\, make connections and get involved with your community garden. Gloves\, tools and guidance provided by our friendly gardeners\, Jo and Charity\, who will be on hand to guide you with tasks. All ages and abilities are welcome and no need to book. For more details email contact@grapeshillcommunitygarden.org or check our Facebook events.
URL:https://grapeshillcommunitygarden.org/pages/event/sunday-volunteer-gardening-session/
LOCATION:Grapes Hill Community Garden\, Grapes Hill\, Norwich\, NR2 4HH\, United Kingdom
CATEGORIES:Volunteer Gardening Session
END:VEVENT
BEGIN:VEVENT
DTSTART;TZID=Europe/London:20260204T130000
DTEND;TZID=Europe/London:20260204T150000
DTSTAMP:20260421T094600
CREATED:20251211T170117Z
LAST-MODIFIED:20251211T170117Z
UID:1839-1770210000-1770217200@grapeshillcommunitygarden.org
SUMMARY:Wednesday gardening Session
DESCRIPTION:Enjoy the fresh air\, make connections and get involved with your community garden. Gloves\, tools and guidance provided by our friendly gardeners\, Jo and Charity\, who will be on hand to guide you with tasks. All ages and abilities are welcome and no need to book. For more details email contact@grapeshillcommunitygarden.org
URL:https://grapeshillcommunitygarden.org/pages/event/wednesday-gardening-session/
LOCATION:Grapes Hill Community Garden\, Grapes Hill\, Norwich\, NR2 4HH\, United Kingdom
CATEGORIES:Volunteer Gardening Session
END:VEVENT
BEGIN:VEVENT
DTSTART;TZID=Europe/London:20260202T173000
DTEND;TZID=Europe/London:20260202T190000
DTSTAMP:20260421T094600
CREATED:20251218T100142Z
LAST-MODIFIED:20251218T100142Z
UID:1872-1770053400-1770058800@grapeshillcommunitygarden.org
SUMMARY:Acoustic Jam Session
DESCRIPTION:Our acoustic jam sessions are held on first and third Monday each month. Bring a song or two you’d like to play or sing. Meet Temple Bar\, Unthank Road. In the Spring we will move back to the garden.
URL:https://grapeshillcommunitygarden.org/pages/event/acoustic-jam-session-3/
LOCATION:Temple Bar\, 2 Unthank Road\, Norwich\, Norfolk\, NR2 2RA\, United Kingdom
CATEGORIES:Acoustic Jam Session
END:VEVENT
BEGIN:VEVENT
DTSTART;TZID=Europe/London:20260125T110000
DTEND;TZID=Europe/London:20260125T150000
DTSTAMP:20260421T094600
CREATED:20251218T085924Z
LAST-MODIFIED:20260115T172010Z
UID:1860-1769338800-1769353200@grapeshillcommunitygarden.org
SUMMARY:Raised bed enrich and refresh
DESCRIPTION:This is an annual work session to add compost and tidy up the raised beds with the 2026 tenants. There will also be an opportunity for winter pruning and gardening. Particularly aimed at raised bed tenants and regular volunteers. Come along. \n 
URL:https://grapeshillcommunitygarden.org/pages/event/raised-bed-enrich-and-refresh/
LOCATION:Grapes Hill Community Garden\, Grapes Hill\, Norwich\, NR2 4HH\, United Kingdom
CATEGORIES:Volunteer Gardening Session
END:VEVENT
BEGIN:VEVENT
DTSTART;TZID=Europe/London:20260121T150000
DTEND;TZID=Europe/London:20260121T170000
DTSTAMP:20260421T094600
CREATED:20251211T163153Z
LAST-MODIFIED:20251211T170627Z
UID:1818-1769007600-1769014800@grapeshillcommunitygarden.org
SUMMARY:Board Games and Winter Quiz
DESCRIPTION:We’ll be upstairs in the Cloud Café\, Dereham Road. Games are provided and you are welcome to bring your own. Free and no need to book. Please pay for your own drinks/snacks. There will be a Winter Quiz this month.
URL:https://grapeshillcommunitygarden.org/pages/event/board-games-and-winter-quiz/
LOCATION:Cloud Cafe Bar\, Dereham Road\, Norwich\, NR2 4HH\, United Kingdom
CATEGORIES:Board Games Session
END:VEVENT
BEGIN:VEVENT
DTSTART;TZID=Europe/London:20260121T130000
DTEND;TZID=Europe/London:20260121T150000
DTSTAMP:20260421T094600
CREATED:20251211T164935Z
LAST-MODIFIED:20251211T164935Z
UID:1834-1769000400-1769007600@grapeshillcommunitygarden.org
SUMMARY:Volunteer Gardening Session
DESCRIPTION:Enjoy the fresh air\, make connections and get involved with your community garden. Gloves\, tools and guidance provided by our friendly gardeners\, Jo and Charity\, who will be on hand to guide you with tasks. All ages and abilities are welcome and no need to book. For more details email contact@grapeshillcommunitygarden.org or check our Facebook events.
URL:https://grapeshillcommunitygarden.org/pages/event/volunteer-gardening-session-2/
LOCATION:Grapes Hill Community Garden\, Grapes Hill\, Norwich\, NR2 4HH\, United Kingdom
CATEGORIES:Volunteer Gardening Session
END:VEVENT
BEGIN:VEVENT
DTSTART;TZID=Europe/London:20260119T173000
DTEND;TZID=Europe/London:20260119T190000
DTSTAMP:20260421T094600
CREATED:20251218T095423Z
LAST-MODIFIED:20251218T100000Z
UID:1867-1768843800-1768849200@grapeshillcommunitygarden.org
SUMMARY:Acoustic Jam Session
DESCRIPTION:Our acoustic jam sessions are held on first and third Monday each month. Bring a song or two you’d like to play or sing. Meet Temple Bar\, Unthank Road. In the Spring we will move back to the garden.
URL:https://grapeshillcommunitygarden.org/pages/event/acoustic-jam-session-2/
LOCATION:Temple Bar\, 2 Unthank Road\, Norwich\, Norfolk\, NR2 2RA\, United Kingdom
END:VEVENT
BEGIN:VEVENT
DTSTART;TZID=Europe/London:20260111T130000
DTEND;TZID=Europe/London:20260111T150000
DTSTAMP:20260421T094600
CREATED:20251211T165129Z
LAST-MODIFIED:20260107T104930Z
UID:1836-1768136400-1768143600@grapeshillcommunitygarden.org
SUMMARY:Volunteer Gardening Session
DESCRIPTION:Enjoy the fresh air\, make connections and get involved with your community garden. Gloves\, tools and guidance provided by our friendly gardeners\, Jo and Charity\, who will be on hand to guide you with tasks. All ages and abilities are welcome and no need to book. For more details email contact@grapeshillcommunitygarden.org or check our Facebook events.
URL:https://grapeshillcommunitygarden.org/pages/event/volunteer-gardening-session-3/
LOCATION:Grapes Hill Community Garden\, Grapes Hill\, Norwich\, NR2 4HH\, United Kingdom
CATEGORIES:Volunteer Gardening Session
END:VEVENT
BEGIN:VEVENT
DTSTART;TZID=Europe/London:20260107T130000
DTEND;TZID=Europe/London:20260107T150000
DTSTAMP:20260421T094600
CREATED:20251211T164822Z
LAST-MODIFIED:20260107T104842Z
UID:1832-1767790800-1767798000@grapeshillcommunitygarden.org
SUMMARY:Cancelled -Volunteer Gardening Session
DESCRIPTION:Today’s session session is cancelled due to icy conditions.  For more details email contact@grapeshillcommunitygarden.org or check our Facebook events. \n  \n 
URL:https://grapeshillcommunitygarden.org/pages/event/volunteer-gardening-session/
LOCATION:Grapes Hill Community Garden\, Grapes Hill\, Norwich\, NR2 4HH\, United Kingdom
CATEGORIES:Volunteer Gardening Session
END:VEVENT
BEGIN:VEVENT
DTSTART;TZID=Europe/London:20251220T130000
DTEND;TZID=Europe/London:20251220T160000
DTSTAMP:20260421T094600
CREATED:20251202T143746Z
LAST-MODIFIED:20251218T085130Z
UID:1799-1766235600-1766246400@grapeshillcommunitygarden.org
SUMMARY:Celebrating Winter Solstice
DESCRIPTION:One of our seasonal workshops to help you live more seasonally and to help you strengthen your connections with nature and the local community. There will be a fire\, food sharing and more. Free\, booking required\, email us at contact@grapeshillcommunitygarden.org.
URL:https://grapeshillcommunitygarden.org/pages/event/celebrating-winter-solstice/
LOCATION:Grapes Hill Community Garden\, Grapes Hill\, Norwich\, NR2 4HH\, United Kingdom
CATEGORIES:Workshop
END:VEVENT
BEGIN:VEVENT
DTSTART;TZID=Europe/London:20251215T173000
DTEND;TZID=Europe/London:20251215T190000
DTSTAMP:20260421T094600
CREATED:20251202T144242Z
LAST-MODIFIED:20251211T165306Z
UID:1805-1765819800-1765825200@grapeshillcommunitygarden.org
SUMMARY:Acoustic Jam Session
DESCRIPTION:Our acoustic jam sessions are held on the first Monday of each month. Bring a song or two you’d like to play or sing. \nJoin us at The Temple Bar. Unthank Road\, NR2 2RA Free to attend and for more information email us at contact@grapeshillcommunitygarden.org.
URL:https://grapeshillcommunitygarden.org/pages/event/acoustic-jam-session/
LOCATION:Grapes Hill Community Garden\, Grapes Hill\, Norwich\, NR2 4HH\, United Kingdom
CATEGORIES:Acoustic Jam Session
END:VEVENT
BEGIN:VEVENT
DTSTART;TZID=Europe/London:20251214T130000
DTEND;TZID=Europe/London:20251214T130000
DTSTAMP:20260421T094600
CREATED:20251202T143421Z
LAST-MODIFIED:20251202T143421Z
UID:1795-1765717200-1765717200@grapeshillcommunitygarden.org
SUMMARY:Winter Volunteer Gardening Session
DESCRIPTION:Enjoy the fresh air\, make connections and get involved with your community garden. Gloves\, tools and guidance provided by our friendly gardeners\, Jo and Charity\, who will be on hand to guide you with tasks. All ages and abilities are welcome and no need to book. For more details email contact@grapeshillcommunitygarden.org or check our Facebook events.
URL:https://grapeshillcommunitygarden.org/pages/event/winter-volunteer-gardening-session-2/
LOCATION:Grapes Hill Community Garden\, Grapes Hill\, Norwich\, NR2 4HH\, United Kingdom
CATEGORIES:Volunteer Gardening Session
END:VEVENT
BEGIN:VEVENT
DTSTART;TZID=Europe/London:20251210T150000
DTEND;TZID=Europe/London:20251210T170000
DTSTAMP:20260421T094600
CREATED:20251202T143559Z
LAST-MODIFIED:20251202T143559Z
UID:1797-1765378800-1765386000@grapeshillcommunitygarden.org
SUMMARY:Board Games Session
DESCRIPTION:Held in the garden if its warm/dry enough otherwise we’ll be upstairs in the Cloud Café\, Dereham Road. Games are provided and you are welcome to bring your own. Free and no need to book. Please pay for your own drinks/snacks.
URL:https://grapeshillcommunitygarden.org/pages/event/board-games-session/
LOCATION:Grapes Hill Community Garden\, Grapes Hill\, Norwich\, NR2 4HH\, United Kingdom
CATEGORIES:Board Games Session
END:VEVENT
BEGIN:VEVENT
DTSTART;TZID=Europe/London:20251210T130000
DTEND;TZID=Europe/London:20251210T150000
DTSTAMP:20260421T094600
CREATED:20251202T142638Z
LAST-MODIFIED:20251202T142758Z
UID:1793-1765371600-1765378800@grapeshillcommunitygarden.org
SUMMARY:Winter Volunteer Gardening Session
DESCRIPTION:Enjoy the fresh air\, make connections and get involved with your community garden. Gloves\, tools and guidance provided by our friendly gardeners\, Jo and Charity\, who will be on hand to guide you with tasks. All ages and abilities are welcome and no need to book. For more details email contact@grapeshillcommunitygarden.org or check our Facebook events.
URL:https://grapeshillcommunitygarden.org/pages/event/winter-volunteer-gardening-session/
LOCATION:Grapes Hill Community Garden\, Grapes Hill\, Norwich\, NR2 4HH\, United Kingdom
CATEGORIES:Volunteer Gardening Session
END:VEVENT
BEGIN:VEVENT
DTSTART;TZID=Europe/London:20251204T110000
DTEND;TZID=Europe/London:20251204T123000
DTSTAMP:20260421T094600
CREATED:20251202T143914Z
LAST-MODIFIED:20251202T143914Z
UID:1801-1764846000-1764851400@grapeshillcommunitygarden.org
SUMMARY:Seasonal Wreaths Workshop
DESCRIPTION:11am-12.30pm or 1pm-2.30pm. Make your own seasonal wreath from natural materials. Free to attend\, donations to the garden are welcome. Free\, please book at Eventbrite or email us at contact@grapeshillcommunitygarden.org.
URL:https://grapeshillcommunitygarden.org/pages/event/seasonal-wreaths-workshop/
LOCATION:Grapes Hill Community Garden\, Grapes Hill\, Norwich\, NR2 4HH\, United Kingdom
CATEGORIES:Workshop
END:VEVENT
BEGIN:VEVENT
DTSTART;TZID=Europe/London:20251203T173000
DTEND;TZID=Europe/London:20251203T190000
DTSTAMP:20260421T094600
CREATED:20251202T144027Z
LAST-MODIFIED:20251202T144027Z
UID:1803-1764783000-1764788400@grapeshillcommunitygarden.org
SUMMARY:Christmas Celebration
DESCRIPTION:Bring your musical instrument and seasonal snacks to share. Free\, booking recommended\, email us at contact@grapeshillcommunitygarden.org.
URL:https://grapeshillcommunitygarden.org/pages/event/christmas-celebration/
LOCATION:Grapes Hill Community Garden\, Grapes Hill\, Norwich\, NR2 4HH\, United Kingdom
CATEGORIES:Workshop
END:VEVENT
END:VCALENDAR