BEGIN:VCALENDAR
VERSION:2.0
PRODID:-//Grapes Hill Community Garden - ECPv6.15.20//NONSGML v1.0//EN
CALSCALE:GREGORIAN
METHOD:PUBLISH
X-WR-CALNAME:Grapes Hill Community Garden
X-ORIGINAL-URL:https://grapeshillcommunitygarden.org/pages
X-WR-CALDESC:Events for Grapes Hill Community Garden
REFRESH-INTERVAL;VALUE=DURATION:PT1H
X-Robots-Tag:noindex
X-PUBLISHED-TTL:PT1H
BEGIN:VTIMEZONE
TZID:Europe/London
BEGIN:DAYLIGHT
TZOFFSETFROM:+0000
TZOFFSETTO:+0100
TZNAME:BST
DTSTART:20250330T010000
END:DAYLIGHT
BEGIN:STANDARD
TZOFFSETFROM:+0100
TZOFFSETTO:+0000
TZNAME:GMT
DTSTART:20251026T010000
END:STANDARD
BEGIN:DAYLIGHT
TZOFFSETFROM:+0000
TZOFFSETTO:+0100
TZNAME:BST
DTSTART:20260329T010000
END:DAYLIGHT
BEGIN:STANDARD
TZOFFSETFROM:+0100
TZOFFSETTO:+0000
TZNAME:GMT
DTSTART:20261025T010000
END:STANDARD
BEGIN:DAYLIGHT
TZOFFSETFROM:+0000
TZOFFSETTO:+0100
TZNAME:BST
DTSTART:20270328T010000
END:DAYLIGHT
BEGIN:STANDARD
TZOFFSETFROM:+0100
TZOFFSETTO:+0000
TZNAME:GMT
DTSTART:20271031T010000
END:STANDARD
END:VTIMEZONE
BEGIN:VEVENT
DTSTART;TZID=Europe/London:20260620T110000
DTEND;TZID=Europe/London:20260620T140000
DTSTAMP:20260419T235306
CREATED:20260403T092515Z
LAST-MODIFIED:20260403T092515Z
UID:1959-1781953200-1781964000@grapeshillcommunitygarden.org
SUMMARY:Seasonal Connections Workshop
DESCRIPTION:Celebrate Summer Solstice- Mark the height of summer\, connect with nature and each other with drumming\, singing\, shared food and more. \nFree please book contact@grapeshillcommunitygarden.org
URL:https://grapeshillcommunitygarden.org/pages/event/seasonal-connections-workshop/
LOCATION:Grapes Hill Community Garden\, Grapes Hill\, Norwich\, NR2 4HH\, United Kingdom
CATEGORIES:Workshop
END:VEVENT
END:VCALENDAR