BEGIN:VCALENDAR
VERSION:2.0
PRODID:-//Grapes Hill Community Garden - ECPv6.15.20//NONSGML v1.0//EN
CALSCALE:GREGORIAN
METHOD:PUBLISH
X-WR-CALNAME:Grapes Hill Community Garden
X-ORIGINAL-URL:https://grapeshillcommunitygarden.org/pages
X-WR-CALDESC:Events for Grapes Hill Community Garden
REFRESH-INTERVAL;VALUE=DURATION:PT1H
X-Robots-Tag:noindex
X-PUBLISHED-TTL:PT1H
BEGIN:VTIMEZONE
TZID:Europe/London
BEGIN:DAYLIGHT
TZOFFSETFROM:+0000
TZOFFSETTO:+0100
TZNAME:BST
DTSTART:20250330T010000
END:DAYLIGHT
BEGIN:STANDARD
TZOFFSETFROM:+0100
TZOFFSETTO:+0000
TZNAME:GMT
DTSTART:20251026T010000
END:STANDARD
BEGIN:DAYLIGHT
TZOFFSETFROM:+0000
TZOFFSETTO:+0100
TZNAME:BST
DTSTART:20260329T010000
END:DAYLIGHT
BEGIN:STANDARD
TZOFFSETFROM:+0100
TZOFFSETTO:+0000
TZNAME:GMT
DTSTART:20261025T010000
END:STANDARD
BEGIN:DAYLIGHT
TZOFFSETFROM:+0000
TZOFFSETTO:+0100
TZNAME:BST
DTSTART:20270328T010000
END:DAYLIGHT
BEGIN:STANDARD
TZOFFSETFROM:+0100
TZOFFSETTO:+0000
TZNAME:GMT
DTSTART:20271031T010000
END:STANDARD
END:VTIMEZONE
BEGIN:VEVENT
DTSTART;TZID=Europe/London:20260420T173000
DTEND;TZID=Europe/London:20260420T190000
DTSTAMP:20260420T050024
CREATED:20260403T091644Z
LAST-MODIFIED:20260403T091644Z
UID:1955-1776706200-1776711600@grapeshillcommunitygarden.org
SUMMARY:Acoustic Jam
DESCRIPTION:Bring a song or two you’d like to play or sing. Free\, no need to book. In the garden if warm otherwise in the Temple Bar.
URL:https://grapeshillcommunitygarden.org/pages/event/acoustic-jam/
LOCATION:Grapes Hill Community Garden\, Grapes Hill\, Norwich\, NR2 4HH\, United Kingdom
CATEGORIES:Acoustic Jam Session
END:VEVENT
END:VCALENDAR